BEGIN:VCALENDAR
VERSION:2.0
PRODID:-//Unsere Veranstaltungen - ECPv6.15.20//NONSGML v1.0//EN
CALSCALE:GREGORIAN
METHOD:PUBLISH
X-ORIGINAL-URL:https://laage-kalender.de
X-WR-CALDESC:Veranstaltungen für Unsere Veranstaltungen
REFRESH-INTERVAL;VALUE=DURATION:PT1H
X-Robots-Tag:noindex
X-PUBLISHED-TTL:PT1H
BEGIN:VTIMEZONE
TZID:Europe/Berlin
BEGIN:DAYLIGHT
TZOFFSETFROM:+0100
TZOFFSETTO:+0200
TZNAME:CEST
DTSTART:20200329T010000
END:DAYLIGHT
BEGIN:STANDARD
TZOFFSETFROM:+0200
TZOFFSETTO:+0100
TZNAME:CET
DTSTART:20201025T010000
END:STANDARD
BEGIN:DAYLIGHT
TZOFFSETFROM:+0100
TZOFFSETTO:+0200
TZNAME:CEST
DTSTART:20210328T010000
END:DAYLIGHT
BEGIN:STANDARD
TZOFFSETFROM:+0200
TZOFFSETTO:+0100
TZNAME:CET
DTSTART:20211031T010000
END:STANDARD
BEGIN:DAYLIGHT
TZOFFSETFROM:+0100
TZOFFSETTO:+0200
TZNAME:CEST
DTSTART:20220327T010000
END:DAYLIGHT
BEGIN:STANDARD
TZOFFSETFROM:+0200
TZOFFSETTO:+0100
TZNAME:CET
DTSTART:20221030T010000
END:STANDARD
END:VTIMEZONE
BEGIN:VEVENT
DTSTART;TZID=Europe/Berlin:20211114T093000
DTEND;TZID=Europe/Berlin:20211114T103000
DTSTAMP:20260425T204200
CREATED:20211112T085644Z
LAST-MODIFIED:20241018T070522Z
UID:4749-1636882200-1636885800@laage-kalender.de
SUMMARY:Gottesdienst in Laage
DESCRIPTION:Wir heißen Euch und Sie herzlich zum Gottesdienst willkommen.
URL:https://laage-kalender.de/event/gottesdienst-laage/2021-11-14/
LOCATION:Stadtkirche Laage\, Straße des Friedens\, Laage\, 18299\, Deutschland
CATEGORIES:Gottesdienst
ORGANIZER;CN="Christophorus Kirchengemeinde Laage":MAILTO:info@christophorus-gemeinde.de
GEO:53.928392;12.344371
X-APPLE-STRUCTURED-LOCATION;VALUE=URI;X-ADDRESS=Stadtkirche Laage Straße des Friedens Laage 18299 Deutschland;X-APPLE-RADIUS=500;X-TITLE=Straße des Friedens:geo:12.344371,53.928392
END:VEVENT
BEGIN:VEVENT
DTSTART;TZID=Europe/Berlin:20211114T110000
DTEND;TZID=Europe/Berlin:20211114T120000
DTSTAMP:20260425T204200
CREATED:20211112T085446Z
LAST-MODIFIED:20241018T070200Z
UID:4724-1636887600-1636891200@laage-kalender.de
SUMMARY:Gottesdienst in Sarmstorf
DESCRIPTION:Wir heißen Euch und Sie herzlich zum Gottesdienst willkommen.
URL:https://laage-kalender.de/event/gottesdienst-in-sarmstorf/2021-11-14/
LOCATION:Dorfkirche Sarmstorf
CATEGORIES:Gottesdienst
ORGANIZER;CN="Christophorus Kirchengemeinde Laage":MAILTO:info@christophorus-gemeinde.de
END:VEVENT
END:VCALENDAR