BEGIN:VCALENDAR
VERSION:2.0
PRODID:-//Unsere Veranstaltungen - ECPv6.15.20//NONSGML v1.0//EN
CALSCALE:GREGORIAN
METHOD:PUBLISH
X-ORIGINAL-URL:https://laage-kalender.de
X-WR-CALDESC:Veranstaltungen für Unsere Veranstaltungen
REFRESH-INTERVAL;VALUE=DURATION:PT1H
X-Robots-Tag:noindex
X-PUBLISHED-TTL:PT1H
BEGIN:VTIMEZONE
TZID:Europe/Berlin
BEGIN:DAYLIGHT
TZOFFSETFROM:+0100
TZOFFSETTO:+0200
TZNAME:CEST
DTSTART:20200329T010000
END:DAYLIGHT
BEGIN:STANDARD
TZOFFSETFROM:+0200
TZOFFSETTO:+0100
TZNAME:CET
DTSTART:20201025T010000
END:STANDARD
BEGIN:DAYLIGHT
TZOFFSETFROM:+0100
TZOFFSETTO:+0200
TZNAME:CEST
DTSTART:20210328T010000
END:DAYLIGHT
BEGIN:STANDARD
TZOFFSETFROM:+0200
TZOFFSETTO:+0100
TZNAME:CET
DTSTART:20211031T010000
END:STANDARD
BEGIN:DAYLIGHT
TZOFFSETFROM:+0100
TZOFFSETTO:+0200
TZNAME:CEST
DTSTART:20220327T010000
END:DAYLIGHT
BEGIN:STANDARD
TZOFFSETFROM:+0200
TZOFFSETTO:+0100
TZNAME:CET
DTSTART:20221030T010000
END:STANDARD
END:VTIMEZONE
BEGIN:VEVENT
DTSTART;TZID=Europe/Berlin:20211121T093000
DTEND;TZID=Europe/Berlin:20211121T103000
DTSTAMP:20260425T204049
CREATED:20211112T085147Z
LAST-MODIFIED:20241018T065401Z
UID:4680-1637487000-1637490600@laage-kalender.de
SUMMARY:Gottesdienst in Polchow
DESCRIPTION:Wir heißen Euch und Sie herzlich zum Gottesdienst willkommen.
URL:https://laage-kalender.de/event/gottesdienst-in-polchow/2021-11-21/
LOCATION:Dorfkirche Polchow
CATEGORIES:Gottesdienst
ORGANIZER;CN="Christophorus Kirchengemeinde Laage":MAILTO:info@christophorus-gemeinde.de
END:VEVENT
END:VCALENDAR