BEGIN:VCALENDAR
VERSION:2.0
PRODID:-//Unsere Veranstaltungen - ECPv6.15.20//NONSGML v1.0//EN
CALSCALE:GREGORIAN
METHOD:PUBLISH
X-WR-CALNAME:Unsere Veranstaltungen
X-ORIGINAL-URL:https://laage-kalender.de
X-WR-CALDESC:Veranstaltungen für Unsere Veranstaltungen
REFRESH-INTERVAL;VALUE=DURATION:PT1H
X-Robots-Tag:noindex
X-PUBLISHED-TTL:PT1H
BEGIN:VTIMEZONE
TZID:Europe/Berlin
BEGIN:DAYLIGHT
TZOFFSETFROM:+0100
TZOFFSETTO:+0200
TZNAME:CEST
DTSTART:20200329T010000
END:DAYLIGHT
BEGIN:STANDARD
TZOFFSETFROM:+0200
TZOFFSETTO:+0100
TZNAME:CET
DTSTART:20201025T010000
END:STANDARD
BEGIN:DAYLIGHT
TZOFFSETFROM:+0100
TZOFFSETTO:+0200
TZNAME:CEST
DTSTART:20210328T010000
END:DAYLIGHT
BEGIN:STANDARD
TZOFFSETFROM:+0200
TZOFFSETTO:+0100
TZNAME:CET
DTSTART:20211031T010000
END:STANDARD
BEGIN:DAYLIGHT
TZOFFSETFROM:+0100
TZOFFSETTO:+0200
TZNAME:CEST
DTSTART:20220327T010000
END:DAYLIGHT
BEGIN:STANDARD
TZOFFSETFROM:+0200
TZOFFSETTO:+0100
TZNAME:CET
DTSTART:20221030T010000
END:STANDARD
END:VTIMEZONE
BEGIN:VEVENT
DTSTART;TZID=Europe/Berlin:20211107T113000
DTEND;TZID=Europe/Berlin:20211107T130000
DTSTAMP:20260426T022158
CREATED:20211112T084325Z
LAST-MODIFIED:20241018T070312Z
UID:4619-1636284600-1636290000@laage-kalender.de
SUMMARY:Sonntagsbegegnung
DESCRIPTION:Wir laden zur Sonntagsbegegnung nach Recknitz ein. Bei einem Mitbring-Imbiss\, Gebet und guten Gesprächen wollen wir Euch und Sie einladen. Wir bringen Kaffee und Tee mit – Ihr und Sie den Rest. Wir freuen uns auf Euch!
URL:https://laage-kalender.de/event/sonntagsbegegnung/2021-11-07/
LOCATION:Dorfkirche St. Bartholomäus zu Recknitz\, Recknitz 8\, Plaaz\, Mecklenburg-Vorpommern\, 18276\, Deutschland
CATEGORIES:Gottesdienst,Kulinarik
ORGANIZER;CN="Christophorus Kirchengemeinde Laage":MAILTO:info@christophorus-gemeinde.de
END:VEVENT
END:VCALENDAR